BEGIN:VCALENDAR
VERSION:2.0
PRODID:-//Sch&uuml;tzenverein Menne e.V. - ECPv6.15.20//NONSGML v1.0//EN
CALSCALE:GREGORIAN
METHOD:PUBLISH
X-ORIGINAL-URL:https://schuetzenverein-menne.de
X-WR-CALDESC:Veranstaltungen für Sch&uuml;tzenverein Menne e.V.
REFRESH-INTERVAL;VALUE=DURATION:PT1H
X-Robots-Tag:noindex
X-PUBLISHED-TTL:PT1H
BEGIN:VTIMEZONE
TZID:Europe/Berlin
BEGIN:DAYLIGHT
TZOFFSETFROM:+0100
TZOFFSETTO:+0200
TZNAME:CEST
DTSTART:20240331T010000
END:DAYLIGHT
BEGIN:STANDARD
TZOFFSETFROM:+0200
TZOFFSETTO:+0100
TZNAME:CET
DTSTART:20241027T010000
END:STANDARD
BEGIN:DAYLIGHT
TZOFFSETFROM:+0100
TZOFFSETTO:+0200
TZNAME:CEST
DTSTART:20250330T010000
END:DAYLIGHT
BEGIN:STANDARD
TZOFFSETFROM:+0200
TZOFFSETTO:+0100
TZNAME:CET
DTSTART:20251026T010000
END:STANDARD
BEGIN:DAYLIGHT
TZOFFSETFROM:+0100
TZOFFSETTO:+0200
TZNAME:CEST
DTSTART:20260329T010000
END:DAYLIGHT
BEGIN:STANDARD
TZOFFSETFROM:+0200
TZOFFSETTO:+0100
TZNAME:CET
DTSTART:20261025T010000
END:STANDARD
END:VTIMEZONE
BEGIN:VEVENT
DTSTART;TZID=Europe/Berlin:20251107T190000
DTEND;TZID=Europe/Berlin:20251107T220000
DTSTAMP:20260421T170244
CREATED:20251030T082315Z
LAST-MODIFIED:20251030T082315Z
UID:909-1762542000-1762552800@schuetzenverein-menne.de
SUMMARY:Treffen der Schießsportgruppe
DESCRIPTION:
URL:https://schuetzenverein-menne.de/event/treffen-der-schiesssportgruppe/
LOCATION:Schießstand unterm Naturbad
END:VEVENT
BEGIN:VEVENT
DTSTART;TZID=Europe/Berlin:20251116T110000
DTEND;TZID=Europe/Berlin:20251116T130000
DTSTAMP:20260421T170244
CREATED:20251030T083343Z
LAST-MODIFIED:20251030T083343Z
UID:911-1763290800-1763298000@schuetzenverein-menne.de
SUMMARY:Volkstrauertag 2025
DESCRIPTION:
URL:https://schuetzenverein-menne.de/event/volkstrauertag-2025/
LOCATION:Alte Schule
CATEGORIES:Schützenverein Menne
END:VEVENT
END:VCALENDAR