BEGIN:VCALENDAR
VERSION:2.0
PRODID:-//Sch&uuml;tzenverein Menne e.V. - ECPv6.15.20//NONSGML v1.0//EN
CALSCALE:GREGORIAN
METHOD:PUBLISH
X-ORIGINAL-URL:https://schuetzenverein-menne.de
X-WR-CALDESC:Veranstaltungen für Sch&uuml;tzenverein Menne e.V.
REFRESH-INTERVAL;VALUE=DURATION:PT1H
X-Robots-Tag:noindex
X-PUBLISHED-TTL:PT1H
BEGIN:VTIMEZONE
TZID:Europe/Berlin
BEGIN:DAYLIGHT
TZOFFSETFROM:+0100
TZOFFSETTO:+0200
TZNAME:CEST
DTSTART:20230326T010000
END:DAYLIGHT
BEGIN:STANDARD
TZOFFSETFROM:+0200
TZOFFSETTO:+0100
TZNAME:CET
DTSTART:20231029T010000
END:STANDARD
BEGIN:DAYLIGHT
TZOFFSETFROM:+0100
TZOFFSETTO:+0200
TZNAME:CEST
DTSTART:20240331T010000
END:DAYLIGHT
BEGIN:STANDARD
TZOFFSETFROM:+0200
TZOFFSETTO:+0100
TZNAME:CET
DTSTART:20241027T010000
END:STANDARD
BEGIN:DAYLIGHT
TZOFFSETFROM:+0100
TZOFFSETTO:+0200
TZNAME:CEST
DTSTART:20250330T010000
END:DAYLIGHT
BEGIN:STANDARD
TZOFFSETFROM:+0200
TZOFFSETTO:+0100
TZNAME:CET
DTSTART:20251026T010000
END:STANDARD
END:VTIMEZONE
BEGIN:VEVENT
DTSTART;TZID=Europe/Berlin:20240413T180000
DTEND;TZID=Europe/Berlin:20240413T230000
DTSTAMP:20260422T235639
CREATED:20240407T184827Z
LAST-MODIFIED:20240407T184827Z
UID:577-1713031200-1713049200@schuetzenverein-menne.de
SUMMARY:Kompanieabend
DESCRIPTION:Nach langer Pause und auf vielfachen Wunsch veranstalten wir wieder einen Kompanieabend. Unser Oberst Florian Kaiser lädt alle Schützen am Samstag\, 13. April um 18 Uhr auf Fischer´s Hof neben der Kirche ein. Mitzubringen sind Schützenmütze und Holzgewehr. Ein Kostenbeitrag von 15 EUR für Getränke und Verpflegung wird erhoben.
URL:https://schuetzenverein-menne.de/event/kompanieabend/
LOCATION:Fischer´s Hof\, Parkstr.\, Menne\, Deutschland
CATEGORIES:Schützenverein Menne
END:VEVENT
BEGIN:VEVENT
DTSTART;TZID=Europe/Berlin:20240427T100000
DTEND;TZID=Europe/Berlin:20240427T130000
DTSTAMP:20260422T235639
CREATED:20240424T110228Z
LAST-MODIFIED:20240424T110228Z
UID:610-1714212000-1714222800@schuetzenverein-menne.de
SUMMARY:Renovierung Vereinsraum
DESCRIPTION:
URL:https://schuetzenverein-menne.de/event/renovierung-vereinsraum/
END:VEVENT
BEGIN:VEVENT
DTSTART;TZID=Europe/Berlin:20240427T163000
DTEND;TZID=Europe/Berlin:20240427T233000
DTSTAMP:20260422T235639
CREATED:20240424T110311Z
LAST-MODIFIED:20240424T110311Z
UID:612-1714235400-1714260600@schuetzenverein-menne.de
SUMMARY:Stadtschützenfest in Nörde
DESCRIPTION:
URL:https://schuetzenverein-menne.de/event/stadtschuetzenfest-in-noerde/
END:VEVENT
END:VCALENDAR