BEGIN:VCALENDAR
VERSION:2.0
PRODID:-//Sch&uuml;tzenverein Menne e.V. - ECPv6.15.20//NONSGML v1.0//EN
CALSCALE:GREGORIAN
METHOD:PUBLISH
X-ORIGINAL-URL:https://schuetzenverein-menne.de
X-WR-CALDESC:Veranstaltungen für Sch&uuml;tzenverein Menne e.V.
REFRESH-INTERVAL;VALUE=DURATION:PT1H
X-Robots-Tag:noindex
X-PUBLISHED-TTL:PT1H
BEGIN:VTIMEZONE
TZID:Europe/Berlin
BEGIN:DAYLIGHT
TZOFFSETFROM:+0100
TZOFFSETTO:+0200
TZNAME:CEST
DTSTART:20220327T010000
END:DAYLIGHT
BEGIN:STANDARD
TZOFFSETFROM:+0200
TZOFFSETTO:+0100
TZNAME:CET
DTSTART:20221030T010000
END:STANDARD
BEGIN:DAYLIGHT
TZOFFSETFROM:+0100
TZOFFSETTO:+0200
TZNAME:CEST
DTSTART:20230326T010000
END:DAYLIGHT
BEGIN:STANDARD
TZOFFSETFROM:+0200
TZOFFSETTO:+0100
TZNAME:CET
DTSTART:20231029T010000
END:STANDARD
BEGIN:DAYLIGHT
TZOFFSETFROM:+0100
TZOFFSETTO:+0200
TZNAME:CEST
DTSTART:20240331T010000
END:DAYLIGHT
BEGIN:STANDARD
TZOFFSETFROM:+0200
TZOFFSETTO:+0100
TZNAME:CET
DTSTART:20241027T010000
END:STANDARD
END:VTIMEZONE
BEGIN:VEVENT
DTSTART;VALUE=DATE:20231202
DTEND;VALUE=DATE:20231203
DTSTAMP:20260423T062402
CREATED:20230624T125632Z
LAST-MODIFIED:20230624T131237Z
UID:463-1701475200-1701561599@schuetzenverein-menne.de
SUMMARY:Jahreshauptversammlung - KFD
DESCRIPTION:
URL:https://schuetzenverein-menne.de/event/jahreshauptversammlung-kfd/
CATEGORIES:KFD
END:VEVENT
BEGIN:VEVENT
DTSTART;VALUE=DATE:20231202
DTEND;VALUE=DATE:20231203
DTSTAMP:20260423T062402
CREATED:20230624T125730Z
LAST-MODIFIED:20230624T131224Z
UID:465-1701475200-1701561599@schuetzenverein-menne.de
SUMMARY:Kleinster Weihnachtsmarkt
DESCRIPTION:
URL:https://schuetzenverein-menne.de/event/kleinster-weihnachtsmarkt/
CATEGORIES:Heimatverein,Tennisverein
END:VEVENT
BEGIN:VEVENT
DTSTART;VALUE=DATE:20231215
DTEND;VALUE=DATE:20231217
DTSTAMP:20260423T062402
CREATED:20230624T125816Z
LAST-MODIFIED:20230624T131211Z
UID:467-1702598400-1702771199@schuetzenverein-menne.de
SUMMARY:Vereinsmeisterschaften - Tischtennis
DESCRIPTION:
URL:https://schuetzenverein-menne.de/event/vereinsmeisterschaften-tischtennis/
CATEGORIES:Tischtennisabteilung
END:VEVENT
BEGIN:VEVENT
DTSTART;VALUE=DATE:20231219
DTEND;VALUE=DATE:20231220
DTSTAMP:20260423T062402
CREATED:20230624T125854Z
LAST-MODIFIED:20230624T131157Z
UID:469-1702944000-1703030399@schuetzenverein-menne.de
SUMMARY:Arbeitseinsatz - Menner Trupp
DESCRIPTION:
URL:https://schuetzenverein-menne.de/event/arbeitseinsatz-menner-trupp-5/
CATEGORIES:Menner Trupp
END:VEVENT
BEGIN:VEVENT
DTSTART;VALUE=DATE:20231225
DTEND;VALUE=DATE:20231226
DTSTAMP:20260423T062402
CREATED:20230624T125939Z
LAST-MODIFIED:20230624T131142Z
UID:471-1703462400-1703548799@schuetzenverein-menne.de
SUMMARY:Weihnachtsball
DESCRIPTION:
URL:https://schuetzenverein-menne.de/event/weihnachtsball/
CATEGORIES:Tischtennisabteilung
END:VEVENT
BEGIN:VEVENT
DTSTART;VALUE=DATE:20231227
DTEND;VALUE=DATE:20231228
DTSTAMP:20260423T062402
CREATED:20230624T130020Z
LAST-MODIFIED:20230624T131128Z
UID:473-1703635200-1703721599@schuetzenverein-menne.de
SUMMARY:Kommunalpolitischer Dämmershoppen
DESCRIPTION:
URL:https://schuetzenverein-menne.de/event/kommunalpolitischer-daemmershoppen/
CATEGORIES:Heimatverein
END:VEVENT
END:VCALENDAR