BEGIN:VCALENDAR
VERSION:2.0
PRODID:-//Sch&uuml;tzenverein Menne e.V. - ECPv6.15.20//NONSGML v1.0//EN
CALSCALE:GREGORIAN
METHOD:PUBLISH
X-ORIGINAL-URL:https://schuetzenverein-menne.de
X-WR-CALDESC:Veranstaltungen für Sch&uuml;tzenverein Menne e.V.
REFRESH-INTERVAL;VALUE=DURATION:PT1H
X-Robots-Tag:noindex
X-PUBLISHED-TTL:PT1H
BEGIN:VTIMEZONE
TZID:Europe/Berlin
BEGIN:DAYLIGHT
TZOFFSETFROM:+0100
TZOFFSETTO:+0200
TZNAME:CEST
DTSTART:20220327T010000
END:DAYLIGHT
BEGIN:STANDARD
TZOFFSETFROM:+0200
TZOFFSETTO:+0100
TZNAME:CET
DTSTART:20221030T010000
END:STANDARD
BEGIN:DAYLIGHT
TZOFFSETFROM:+0100
TZOFFSETTO:+0200
TZNAME:CEST
DTSTART:20230326T010000
END:DAYLIGHT
BEGIN:STANDARD
TZOFFSETFROM:+0200
TZOFFSETTO:+0100
TZNAME:CET
DTSTART:20231029T010000
END:STANDARD
BEGIN:DAYLIGHT
TZOFFSETFROM:+0100
TZOFFSETTO:+0200
TZNAME:CEST
DTSTART:20240331T010000
END:DAYLIGHT
BEGIN:STANDARD
TZOFFSETFROM:+0200
TZOFFSETTO:+0100
TZNAME:CET
DTSTART:20241027T010000
END:STANDARD
END:VTIMEZONE
BEGIN:VEVENT
DTSTART;VALUE=DATE:20230701
DTEND;VALUE=DATE:20230704
DTSTAMP:20260423T134847
CREATED:20230623T085457Z
LAST-MODIFIED:20230624T133057Z
UID:199-1688169600-1688428799@schuetzenverein-menne.de
SUMMARY:Schützenfest
DESCRIPTION:
URL:https://schuetzenverein-menne.de/event/schuetzenfest/
CATEGORIES:Schützenverein Menne
END:VEVENT
BEGIN:VEVENT
DTSTART;VALUE=DATE:20230715
DTEND;VALUE=DATE:20230716
DTSTAMP:20260423T134847
CREATED:20230623T133210Z
LAST-MODIFIED:20230624T131105Z
UID:212-1689379200-1689465599@schuetzenverein-menne.de
SUMMARY:Brettchencup
DESCRIPTION:
URL:https://schuetzenverein-menne.de/event/brettchencup/
CATEGORIES:Tischtennisabteilung
END:VEVENT
BEGIN:VEVENT
DTSTART;VALUE=DATE:20230718
DTEND;VALUE=DATE:20230719
DTSTAMP:20260423T134847
CREATED:20230623T133310Z
LAST-MODIFIED:20230624T131936Z
UID:214-1689638400-1689724799@schuetzenverein-menne.de
SUMMARY:Arbeitseinsatz - Menner Trupp
DESCRIPTION:
URL:https://schuetzenverein-menne.de/event/arbeitseinsatz-menner-trupp/
CATEGORIES:Menner Trupp
END:VEVENT
BEGIN:VEVENT
DTSTART;VALUE=DATE:20230725
DTEND;VALUE=DATE:20230726
DTSTAMP:20260423T134847
CREATED:20230623T133407Z
LAST-MODIFIED:20230624T132010Z
UID:216-1690243200-1690329599@schuetzenverein-menne.de
SUMMARY:Jakobustag
DESCRIPTION:
URL:https://schuetzenverein-menne.de/event/jakobustag/
CATEGORIES:Heimatverein
END:VEVENT
BEGIN:VEVENT
DTSTART;VALUE=DATE:20230728
DTEND;VALUE=DATE:20230731
DTSTAMP:20260423T134847
CREATED:20230623T133447Z
LAST-MODIFIED:20230624T132105Z
UID:218-1690502400-1690761599@schuetzenverein-menne.de
SUMMARY:Sportfest
DESCRIPTION:
URL:https://schuetzenverein-menne.de/event/sportfest/
CATEGORIES:Sportverein
END:VEVENT
END:VCALENDAR